BEGIN:VCALENDAR
VERSION:2.0
PRODID:-//Dialog im Malzimmer - ECPv6.1.4//NONSGML v1.0//EN
CALSCALE:GREGORIAN
METHOD:PUBLISH
X-ORIGINAL-URL:https://www.sabine-portner.de
X-WR-CALDESC:Veranstaltungen für Dialog im Malzimmer
REFRESH-INTERVAL;VALUE=DURATION:PT1H
X-Robots-Tag:noindex
X-PUBLISHED-TTL:PT1H
BEGIN:VTIMEZONE
TZID:Europe/Berlin
BEGIN:DAYLIGHT
TZOFFSETFROM:+0100
TZOFFSETTO:+0200
TZNAME:CEST
DTSTART:20230326T010000
END:DAYLIGHT
BEGIN:STANDARD
TZOFFSETFROM:+0200
TZOFFSETTO:+0100
TZNAME:CET
DTSTART:20231029T010000
END:STANDARD
END:VTIMEZONE
BEGIN:VEVENT
DTSTART;TZID=Europe/Berlin:20230521T120000
DTEND;TZID=Europe/Berlin:20230521T180000
DTSTAMP:20260420T173828
CREATED:20230426T140808Z
LAST-MODIFIED:20230426T140808Z
UID:536-1684670400-1684692000@www.sabine-portner.de
SUMMARY:kreativer Workshop "intuitives Soulpainting"
DESCRIPTION:per Anmeldung über die FRAMAG Frammersbach\, oder einfach vorbei kommen. Ein Workshop über Soulpainting um selbst mal schnuppern zu können\, ob einem das freie Malen liegt. In ungezwungener Atmosphäre im Terrassen Schwimmbad Frammersbach
URL:https://www.sabine-portner.de/veranstaltungen/kreativer-workshop-intuitives-soulpainting/
END:VEVENT
BEGIN:VEVENT
DTSTART;TZID=Europe/Berlin:20230520T140000
DTEND;TZID=Europe/Berlin:20230520T200000
DTSTAMP:20260420T173828
CREATED:20230426T140344Z
LAST-MODIFIED:20230426T140439Z
UID:533-1684591200-1684612800@www.sabine-portner.de
SUMMARY:Kunst und Kreativmarkt 50 Jahre Terassenschwimmbad
DESCRIPTION:Ausstellung einiger Bilder bei dem Kunst- und Hobbymarkt im Terrassen Schwimmbad Frammersbach
URL:https://www.sabine-portner.de/veranstaltungen/kunst-und-kreativmarkt-50-jahre-terassenschwimmbad/
END:VEVENT
BEGIN:VEVENT
DTSTART;TZID=Europe/Berlin:20230512T190000
DTEND;TZID=Europe/Berlin:20230512T220000
DTSTAMP:20260420T173828
CREATED:20230509T183152Z
LAST-MODIFIED:20230509T183252Z
UID:542-1683918000-1683928800@www.sabine-portner.de
SUMMARY:Workshop Soulpainting
DESCRIPTION:
URL:https://www.sabine-portner.de/veranstaltungen/workshop-soulpainting/
LOCATION:Frammersbach\, Agnesstraße 36a
END:VEVENT
BEGIN:VEVENT
DTSTART;TZID=Europe/Berlin:20230317T183000
DTEND;TZID=Europe/Berlin:20230317T220000
DTSTAMP:20260420T173828
CREATED:20230129T144210Z
LAST-MODIFIED:20230129T144210Z
UID:451-1679077800-1679090400@www.sabine-portner.de
SUMMARY:Vernissage bei Hotel Restaurant Schwarzkopf
DESCRIPTION:Ein Toller Abend mit leckerem 3-Gänge Menü und Begrüßungsdrink. \nDu kannst meine Werke betrachten\, wir quatschen in aller Ruhe über diese und du kannst Dir noch das Essen schmecken lassen. \nAnmeldung über Hotel Restaurant Schwarzkopf in Frammersbach
URL:https://www.sabine-portner.de/veranstaltungen/vernissage-bei-hotel-restaurant-schwarzkopf/
LOCATION:Hotel Restaurant Schwarzkopf\, Frammersbach
END:VEVENT
END:VCALENDAR